BEGIN:VCALENDAR
VERSION:2.0
PRODID:-//TYPO3/NONSGML Calendarize//EN
BEGIN:VEVENT
UID:calendarize-626
DTSTART:20211207T100000Z
DTEND:20211207T150000Z
SUMMARY:TYPO3 Schulung
DESCRIPTION:&lt;ul&gt; 	&lt;li&gt;1. Tag: Redakteursschulung&lt;/li&gt; 	&lt;li&gt;2. Tag: Administrator-Schulung&lt;/li&gt; &lt;/ul&gt;
LOCATION:
END:VEVENT

END:VCALENDAR